BEGIN:VCALENDAR
VERSION:2.0
PRODID:-//hacksw/handcal//NONSGML v1.0//EN
BEGIN:VEVENT
SUMMARY:Match inter comites Emilie POUCAN BE/MI
UID:1b070259-74d7-4f8e-b51a-265e9fc7a250
DTSTART:20260417T220000Z
DTEND:20260418T220000Z
LOCATION:Localisation  22 LAMBALLE
CATEGORIES:Sportif
STATUS:
URL;VALUE=URI:https://www.comiteathle17.com/evenements/2026/04/18/match-inter-comites-emilie-poucan-bemi-2438773
END:VEVENT
END:VCALENDAR
