BEGIN:VCALENDAR
VERSION:2.0
PRODID:-//hacksw/handcal//NONSGML v1.0//EN
BEGIN:VEVENT
SUMMARY:Kids Athle Saint Palais sur mer
UID:05c2f5e8-a84e-4a8d-b74c-79e03672ab8b
DTSTART:20260421T220000Z
DTEND:20260422T220000Z
LOCATION:Localisation   saint palais sur mer
CATEGORIES:Sportif
STATUS:
URL;VALUE=URI:https://www.comiteathle17.com/evenements/2026/04/22/kids-athle-saint-palais-sur-mer-2438774
END:VEVENT
END:VCALENDAR
