BEGIN:VCALENDAR
VERSION:2.0
PRODID:-//hacksw/handcal//NONSGML v1.0//EN
BEGIN:VEVENT
SUMMARY:Kids Athle Aigrefeuille BB/EA
UID:8b509d4c-4093-410b-b7b8-6a561a56dd0b
DTSTART:20260424T220000Z
DTEND:20260425T220000Z
LOCATION:Localisation stade athletisme 17290 aigrefeuille
CATEGORIES:Sportif
STATUS:
URL;VALUE=URI:https://www.comiteathle17.com/evenements/2026/04/25/kids-athle-aigrefeuille-bbea-2438776
END:VEVENT
END:VCALENDAR
