BEGIN:VCALENDAR
VERSION:2.0
PRODID:-//hacksw/handcal//NONSGML v1.0//EN
BEGIN:VEVENT
SUMMARY:Triathlon PO/BE/MI
UID:9a0b7090-0a96-45b9-aff2-3f39c1b222fb
DTSTART:20260424T220000Z
DTEND:20260425T220000Z
LOCATION:Localisation stade athletisme 17290 aigrefeuille
CATEGORIES:Sportif
STATUS:
URL;VALUE=URI:https://www.comiteathle17.com/evenements/2026/04/25/triathlon-pobemi-2438777
END:VEVENT
END:VCALENDAR
