BEGIN:VCALENDAR
VERSION:2.0
PRODID:-//hacksw/handcal//NONSGML v1.0//EN
BEGIN:VEVENT
SUMMARY:Meeting d'ouverture de Saintes CA / MASTER
UID:bceb92c8-7133-4210-9b48-d6386ebdcba5
DTSTART:20260507T220000Z
DTEND:20260508T220000Z
LOCATION:Localisation stade athletisme yvon chevalier 17100 saintes
CATEGORIES:Sportif
STATUS:
URL;VALUE=URI:https://www.comiteathle17.com/evenements/2026/05/08/meeting-douverture-de-saintes-ca-master-2370406
END:VEVENT
END:VCALENDAR
