BEGIN:VCALENDAR
VERSION:2.0
PRODID:-//hacksw/handcal//NONSGML v1.0//EN
BEGIN:VEVENT
SUMMARY:Equipe Athle Zone 16 / 17 BE / MI
UID:d727aa4a-6f22-4482-92da-a9e48c85cccc
DTSTART:20260508T220000Z
DTEND:20260509T220000Z
LOCATION:Localisation  16 angouleme
CATEGORIES:Sportif
STATUS:
URL;VALUE=URI:https://www.comiteathle17.com/evenements/2026/05/09/equipe-athle-zone-16-17-be-mi-2438778
END:VEVENT
END:VCALENDAR
