BEGIN:VCALENDAR
VERSION:2.0
PRODID:-//hacksw/handcal//NONSGML v1.0//EN
BEGIN:VEVENT
SUMMARY:Interclubs Regional Limoges
UID:bc5e72fa-f408-47d6-89c9-c63815594f9f
DTSTART:20260513T220000Z
DTEND:20260514T220000Z
LOCATION:Localisation  16 limoges
CATEGORIES:Sportif
STATUS:
URL;VALUE=URI:https://www.comiteathle17.com/evenements/2026/05/14/interclubs-regional-limoges-2438779
END:VEVENT
END:VCALENDAR
