BEGIN:VCALENDAR
VERSION:2.0
PRODID:-//hacksw/handcal//NONSGML v1.0//EN
BEGIN:VEVENT
SUMMARY:Interclubs N2B et Regional Partenay
UID:df599c62-8e08-4aa1-bff2-6ffe03674cf6
DTSTART:20260516T220000Z
DTEND:20260517T220000Z
LOCATION:Localisation   partenay
CATEGORIES:Sportif
STATUS:
URL;VALUE=URI:https://www.comiteathle17.com/evenements/2026/05/17/interclubs-n2b-et-regional-partenay-2438780
END:VEVENT
END:VCALENDAR
