BEGIN:VCALENDAR
VERSION:2.0
PRODID:-//hacksw/handcal//NONSGML v1.0//EN
BEGIN:VEVENT
SUMMARY:Equip'Athle Finale Regionales Villeneuve sur lot
UID:41411afe-d7ea-444c-93cf-f4410e1c2373
DTSTART:20260522T220000Z
DTEND:20260523T220000Z
LOCATION:Localisation   villeneuve sur lot
CATEGORIES:Sportif
STATUS:
URL;VALUE=URI:https://www.comiteathle17.com/evenements/2026/05/23/equipathle-finale-regionales-villeneuve-sur-lot-2438783
END:VEVENT
END:VCALENDAR
