BEGIN:VCALENDAR
VERSION:2.0
PRODID:-//hacksw/handcal//NONSGML v1.0//EN
BEGIN:VEVENT
SUMMARY:Meeting du Grand Cognac
UID:da0515c4-dc7e-440a-ae7d-fd0342bb69f8
DTSTART:20260529T220000Z
DTEND:20260530T220000Z
LOCATION:Localisation   cognac
CATEGORIES:Sportif
STATUS:
URL;VALUE=URI:https://www.comiteathle17.com/evenements/2026/05/30/meeting-du-grand-cognac-2438786
END:VEVENT
END:VCALENDAR
