BEGIN:VCALENDAR
VERSION:2.0
PRODID:-//hacksw/handcal//NONSGML v1.0//EN
BEGIN:VEVENT
SUMMARY:Departementaux BE / MI Rochefort
UID:58a74589-381b-4ca9-ac89-48d425be9638
DTSTART:20260530T220000Z
DTEND:20260531T220000Z
LOCATION:Localisation avenue torrelavega 17 rochefort
CATEGORIES:Sportif
STATUS:
URL;VALUE=URI:https://www.comiteathle17.com/evenements/2026/05/31/departementaux-be-mi-rochefort-2438787
END:VEVENT
END:VCALENDAR
