BEGIN:VCALENDAR
VERSION:2.0
PRODID:-//hacksw/handcal//NONSGML v1.0//EN
BEGIN:VEVENT
SUMMARY:Pre Regionaux Minimes a Saintes
UID:540e90a6-4ea3-421a-a9af-912aaed718cb
DTSTART:20260606T220000Z
DTEND:20260607T220000Z
LOCATION:Localisation stade athletisme yvon chevalier 17100 saintes
CATEGORIES:Sportif
STATUS:
URL;VALUE=URI:https://www.comiteathle17.com/evenements/2026/06/07/pre-regionaux-minimes-a-saintes-2438310
END:VEVENT
END:VCALENDAR
