BEGIN:VCALENDAR
VERSION:2.0
PRODID:-//hacksw/handcal//NONSGML v1.0//EN
BEGIN:VEVENT
SUMMARY:Kid de Saujon
UID:6d4f06a9-06d5-4027-9456-315b9a00d9b9
DTSTART:20260612T220000Z
DTEND:20260613T220000Z
LOCATION:Localisation stade athletisme  saujon
CATEGORIES:Sportif
STATUS:
URL;VALUE=URI:https://www.comiteathle17.com/evenements/2026/06/13/kid-de-saujon-2438788
END:VEVENT
END:VCALENDAR
