BEGIN:VCALENDAR
VERSION:2.0
PRODID:-//hacksw/handcal//NONSGML v1.0//EN
BEGIN:VEVENT
SUMMARY:Regionaux MI
UID:a61de006-495c-4609-94ac-3f90895ea7c8
DTSTART:20260619T220000Z
DTEND:20260621T220000Z
LOCATION:Localisation   saint jean de luz
CATEGORIES:Sportif
STATUS:
URL;VALUE=URI:https://www.comiteathle17.com/evenements/2026/06/20/regionaux-mi-2438790
END:VEVENT
END:VCALENDAR
