BEGIN:VCALENDAR
VERSION:2.0
PRODID:-//hacksw/handcal//NONSGML v1.0//EN
BEGIN:VEVENT
SUMMARY:Meeting Jeunes saintes
UID:951e138d-cc09-40dd-9ccc-2996b44bed51
DTSTART:20260623T220000Z
DTEND:20260624T220000Z
LOCATION:Localisation stade athletisme yvon chevalier 17100 saintes
CATEGORIES:Sportif
STATUS:
URL;VALUE=URI:https://www.comiteathle17.com/evenements/2026/06/24/meeting-jeunes-saintes-2438791
END:VEVENT
END:VCALENDAR
