BEGIN:VCALENDAR
VERSION:2.0
PRODID:-//hacksw/handcal//NONSGML v1.0//EN
BEGIN:VEVENT
SUMMARY:Championnats Regionaux Lana C / J / E / S
UID:1a8bbf36-4371-459a-ad14-1188268e431d
DTSTART:20260626T220000Z
DTEND:20260628T220000Z
LOCATION:Localisation stade athletisme 33 talence
CATEGORIES:Sportif
STATUS:
URL;VALUE=URI:https://www.comiteathle17.com/evenements/2026/06/27/championnats-regionaux-lana-c-j-e-s-2438794
END:VEVENT
END:VCALENDAR
