BEGIN:VCALENDAR
VERSION:2.0
PRODID:-//hacksw/handcal//NONSGML v1.0//EN
BEGIN:VEVENT
SUMMARY:Kid de Saint Jean d'Angely
UID:314ee12b-91ba-4adb-a6df-c77e1f889311
DTSTART:20260626T220000Z
DTEND:20260627T220000Z
LOCATION:Localisation Saint Jean D'Angely 17400 saint jean angely
CATEGORIES:Sportif
STATUS:
URL;VALUE=URI:https://www.comiteathle17.com/evenements/2026/06/27/kid-de-saint-jean-dangely-2438793
END:VEVENT
END:VCALENDAR
