BEGIN:VCALENDAR
VERSION:2.0
PRODID:-//hacksw/handcal//NONSGML v1.0//EN
BEGIN:VEVENT
SUMMARY:Meeting Regional Saintes
UID:69ba01ad-d9a8-4320-a3f4-5b6e7036784e
DTSTART:20260702T220000Z
DTEND:20260703T220000Z
LOCATION:Localisation stade athletisme yvon chevalier 17100 saintes
CATEGORIES:Sportif
STATUS:
URL;VALUE=URI:https://www.comiteathle17.com/evenements/2026/07/03/meeting-regional-saintes-2438795
END:VEVENT
END:VCALENDAR
