BEGIN:VCALENDAR
VERSION:2.0
PRODID:-//hacksw/handcal//NONSGML v1.0//EN
BEGIN:VEVENT
SUMMARY:Pointes d'Or B Cognac
UID:5e4a1ffc-eda2-4b4b-8cbb-80ef8090904c
DTSTART:20260703T220000Z
DTEND:20260704T220000Z
LOCATION:Localisation   
CATEGORIES:Sportif
STATUS:
URL;VALUE=URI:https://www.comiteathle17.com/evenements/2026/07/04/pointes-dor-b-cognac-2438796
END:VEVENT
END:VCALENDAR
