BEGIN:VCALENDAR
VERSION:2.0
PRODID:-//hacksw/handcal//NONSGML v1.0//EN
BEGIN:VEVENT
SUMMARY:Meeting Jacques LEFEVRE la Rochelle
UID:9156424b-8135-47f7-83f3-a61c3758dc26
DTSTART:20260707T220000Z
DTEND:20260708T220000Z
LOCATION:Localisation   
CATEGORIES:Sportif
STATUS:
URL;VALUE=URI:https://www.comiteathle17.com/evenements/2026/07/08/meeting-jacques-lefevre-la-rochelle-2438797
END:VEVENT
END:VCALENDAR
